BEGIN:VCALENDAR
VERSION:2.0
PRODID:-//Seeking Scripture - ECPv6.15.20//NONSGML v1.0//EN
CALSCALE:GREGORIAN
METHOD:PUBLISH
X-WR-CALNAME:Seeking Scripture
X-ORIGINAL-URL:https://seekingscripture.com
X-WR-CALDESC:Events for Seeking Scripture
REFRESH-INTERVAL;VALUE=DURATION:PT1H
X-Robots-Tag:noindex
X-PUBLISHED-TTL:PT1H
BEGIN:VTIMEZONE
TZID:America/Chicago
BEGIN:DAYLIGHT
TZOFFSETFROM:-0600
TZOFFSETTO:-0500
TZNAME:CDT
DTSTART:20250309T080000
END:DAYLIGHT
BEGIN:STANDARD
TZOFFSETFROM:-0500
TZOFFSETTO:-0600
TZNAME:CST
DTSTART:20251102T070000
END:STANDARD
BEGIN:DAYLIGHT
TZOFFSETFROM:-0600
TZOFFSETTO:-0500
TZNAME:CDT
DTSTART:20260308T080000
END:DAYLIGHT
BEGIN:STANDARD
TZOFFSETFROM:-0500
TZOFFSETTO:-0600
TZNAME:CST
DTSTART:20261101T070000
END:STANDARD
BEGIN:DAYLIGHT
TZOFFSETFROM:-0600
TZOFFSETTO:-0500
TZNAME:CDT
DTSTART:20270314T080000
END:DAYLIGHT
BEGIN:STANDARD
TZOFFSETFROM:-0500
TZOFFSETTO:-0600
TZNAME:CST
DTSTART:20271107T070000
END:STANDARD
END:VTIMEZONE
BEGIN:VEVENT
DTSTART;VALUE=DATE:20260504
DTEND;VALUE=DATE:20260505
DTSTAMP:20260423T025729
CREATED:20260106T022501Z
LAST-MODIFIED:20260106T022501Z
UID:76538-1777852800-1777939199@seekingscripture.com
SUMMARY:"But he took his stand in the midst of the plot and defended it and killed the Philistines. And the Lord saved them by a great victory." - 1 Chronicles 11:14
DESCRIPTION:
URL:https://seekingscripture.com/vod/but-he-took-his-stand-in-the-midst-of-the-plot-and-defended-it-and-killed-the-philistines-and-the-lord-saved-them-by-a-great-victory-1-chronicles-1114-2/
END:VEVENT
END:VCALENDAR