BEGIN:VCALENDAR
VERSION:2.0
PRODID:-//Seeking Scripture - ECPv6.15.20//NONSGML v1.0//EN
CALSCALE:GREGORIAN
METHOD:PUBLISH
X-ORIGINAL-URL:https://seekingscripture.com
X-WR-CALDESC:Events for Seeking Scripture
REFRESH-INTERVAL;VALUE=DURATION:PT1H
X-Robots-Tag:noindex
X-PUBLISHED-TTL:PT1H
BEGIN:VTIMEZONE
TZID:America/Chicago
BEGIN:DAYLIGHT
TZOFFSETFROM:-0600
TZOFFSETTO:-0500
TZNAME:CDT
DTSTART:20250309T080000
END:DAYLIGHT
BEGIN:STANDARD
TZOFFSETFROM:-0500
TZOFFSETTO:-0600
TZNAME:CST
DTSTART:20251102T070000
END:STANDARD
BEGIN:DAYLIGHT
TZOFFSETFROM:-0600
TZOFFSETTO:-0500
TZNAME:CDT
DTSTART:20260308T080000
END:DAYLIGHT
BEGIN:STANDARD
TZOFFSETFROM:-0500
TZOFFSETTO:-0600
TZNAME:CST
DTSTART:20261101T070000
END:STANDARD
BEGIN:DAYLIGHT
TZOFFSETFROM:-0600
TZOFFSETTO:-0500
TZNAME:CDT
DTSTART:20270314T080000
END:DAYLIGHT
BEGIN:STANDARD
TZOFFSETFROM:-0500
TZOFFSETTO:-0600
TZNAME:CST
DTSTART:20271107T070000
END:STANDARD
END:VTIMEZONE
BEGIN:VEVENT
DTSTART;VALUE=DATE:20260511
DTEND;VALUE=DATE:20260512
DTSTAMP:20260425T101204
CREATED:20260106T022359Z
LAST-MODIFIED:20260106T022359Z
UID:76545-1778457600-1778543999@seekingscripture.com
SUMMARY:"And it was the duty of the trumpeters and singers to make themselves heard in unison in praise and thanksgiving to the Lord)\, and when the song was raised\, with trumpets and cymbals and other musical instruments\, in praise to the Lord\, 'For he is good\, for his steadfast love endures forever\,' the house\, the house of the Lord\, was filled with a cloud\," - 2 Chronicles 5:13
DESCRIPTION:
URL:https://seekingscripture.com/vod/and-it-was-the-duty-of-the-trumpeters-and-singers-to-make-themselves-heard-in-unison-in-praise-and-thanksgiving-to-the-lord-and-when-the-song-was-raised-with-trumpets-and-cymbals-and-other-musica/
END:VEVENT
END:VCALENDAR