BEGIN:VCALENDAR
VERSION:2.0
PRODID:-//Seeking Scripture - ECPv6.15.20//NONSGML v1.0//EN
CALSCALE:GREGORIAN
METHOD:PUBLISH
X-ORIGINAL-URL:https://seekingscripture.com
X-WR-CALDESC:Events for Seeking Scripture
REFRESH-INTERVAL;VALUE=DURATION:PT1H
X-Robots-Tag:noindex
X-PUBLISHED-TTL:PT1H
BEGIN:VTIMEZONE
TZID:America/Chicago
BEGIN:DAYLIGHT
TZOFFSETFROM:-0600
TZOFFSETTO:-0500
TZNAME:CDT
DTSTART:20250309T080000
END:DAYLIGHT
BEGIN:STANDARD
TZOFFSETFROM:-0500
TZOFFSETTO:-0600
TZNAME:CST
DTSTART:20251102T070000
END:STANDARD
BEGIN:DAYLIGHT
TZOFFSETFROM:-0600
TZOFFSETTO:-0500
TZNAME:CDT
DTSTART:20260308T080000
END:DAYLIGHT
BEGIN:STANDARD
TZOFFSETFROM:-0500
TZOFFSETTO:-0600
TZNAME:CST
DTSTART:20261101T070000
END:STANDARD
BEGIN:DAYLIGHT
TZOFFSETFROM:-0600
TZOFFSETTO:-0500
TZNAME:CDT
DTSTART:20270314T080000
END:DAYLIGHT
BEGIN:STANDARD
TZOFFSETFROM:-0500
TZOFFSETTO:-0600
TZNAME:CST
DTSTART:20271107T070000
END:STANDARD
END:VTIMEZONE
BEGIN:VEVENT
DTSTART;VALUE=DATE:20260512
DTEND;VALUE=DATE:20260513
DTSTAMP:20260425T112834
CREATED:20260106T022359Z
LAST-MODIFIED:20260106T022359Z
UID:76546-1778544000-1778630399@seekingscripture.com
SUMMARY:"If my people who are called by my name humble themselves\, and pray and seek my face and turn from their wicked ways\, then I will hear from heaven and will forgive their sin and heal their land." - 2 Chronicles 7:14
DESCRIPTION:
URL:https://seekingscripture.com/vod/if-my-people-who-are-called-by-my-name-humble-themselves-and-pray-and-seek-my-face-and-turn-from-their-wicked-ways-then-i-will-hear-from-heaven-and-will-forgive-their-sin-and-heal-their-land/
END:VEVENT
END:VCALENDAR