BEGIN:VCALENDAR
VERSION:2.0
PRODID:-//Seeking Scripture - ECPv6.15.20//NONSGML v1.0//EN
CALSCALE:GREGORIAN
METHOD:PUBLISH
X-WR-CALNAME:Seeking Scripture
X-ORIGINAL-URL:https://seekingscripture.com
X-WR-CALDESC:Events for Seeking Scripture
REFRESH-INTERVAL;VALUE=DURATION:PT1H
X-Robots-Tag:noindex
X-PUBLISHED-TTL:PT1H
BEGIN:VTIMEZONE
TZID:America/Chicago
BEGIN:DAYLIGHT
TZOFFSETFROM:-0600
TZOFFSETTO:-0500
TZNAME:CDT
DTSTART:20250309T080000
END:DAYLIGHT
BEGIN:STANDARD
TZOFFSETFROM:-0500
TZOFFSETTO:-0600
TZNAME:CST
DTSTART:20251102T070000
END:STANDARD
BEGIN:DAYLIGHT
TZOFFSETFROM:-0600
TZOFFSETTO:-0500
TZNAME:CDT
DTSTART:20260308T080000
END:DAYLIGHT
BEGIN:STANDARD
TZOFFSETFROM:-0500
TZOFFSETTO:-0600
TZNAME:CST
DTSTART:20261101T070000
END:STANDARD
BEGIN:DAYLIGHT
TZOFFSETFROM:-0600
TZOFFSETTO:-0500
TZNAME:CDT
DTSTART:20270314T080000
END:DAYLIGHT
BEGIN:STANDARD
TZOFFSETFROM:-0500
TZOFFSETTO:-0600
TZNAME:CST
DTSTART:20271107T070000
END:STANDARD
END:VTIMEZONE
BEGIN:VEVENT
DTSTART;VALUE=DATE:20260518
DTEND;VALUE=DATE:20260519
DTSTAMP:20260425T195902
CREATED:20260106T022357Z
LAST-MODIFIED:20260106T022357Z
UID:76552-1779062400-1779148799@seekingscripture.com
SUMMARY:"Now when all this was finished\, all Israel who were present went out to the cities of Judah and broke in pieces the pillars and cut down the Asherim and broke down the high places and the altars throughout all Judah and Benjamin\, and in Ephraim and Manasseh\, until they had destroyed them all. Then all the people of Israel returned to their cities\, every man to his possession." - 2 Chronicles 31:1
DESCRIPTION:
URL:https://seekingscripture.com/vod/now-when-all-this-was-finished-all-israel-who-were-present-went-out-to-the-cities-of-judah-and-broke-in-pieces-the-pillars-and-cut-down-the-asherim-and-broke-down-the-high-places-and-the-altars-thr/
END:VEVENT
END:VCALENDAR