BEGIN:VCALENDAR
VERSION:2.0
PRODID:-//Seeking Scripture - ECPv6.15.20//NONSGML v1.0//EN
CALSCALE:GREGORIAN
METHOD:PUBLISH
X-WR-CALNAME:Seeking Scripture
X-ORIGINAL-URL:https://seekingscripture.com
X-WR-CALDESC:Events for Seeking Scripture
REFRESH-INTERVAL;VALUE=DURATION:PT1H
X-Robots-Tag:noindex
X-PUBLISHED-TTL:PT1H
BEGIN:VTIMEZONE
TZID:America/Chicago
BEGIN:DAYLIGHT
TZOFFSETFROM:-0600
TZOFFSETTO:-0500
TZNAME:CDT
DTSTART:20250309T080000
END:DAYLIGHT
BEGIN:STANDARD
TZOFFSETFROM:-0500
TZOFFSETTO:-0600
TZNAME:CST
DTSTART:20251102T070000
END:STANDARD
BEGIN:DAYLIGHT
TZOFFSETFROM:-0600
TZOFFSETTO:-0500
TZNAME:CDT
DTSTART:20260308T080000
END:DAYLIGHT
BEGIN:STANDARD
TZOFFSETFROM:-0500
TZOFFSETTO:-0600
TZNAME:CST
DTSTART:20261101T070000
END:STANDARD
BEGIN:DAYLIGHT
TZOFFSETFROM:-0600
TZOFFSETTO:-0500
TZNAME:CDT
DTSTART:20270314T080000
END:DAYLIGHT
BEGIN:STANDARD
TZOFFSETFROM:-0500
TZOFFSETTO:-0600
TZNAME:CST
DTSTART:20271107T070000
END:STANDARD
END:VTIMEZONE
BEGIN:VEVENT
DTSTART;VALUE=DATE:20260519
DTEND;VALUE=DATE:20260520
DTSTAMP:20260425T212259
CREATED:20260106T022356Z
LAST-MODIFIED:20260106T022356Z
UID:76553-1779148800-1779235199@seekingscripture.com
SUMMARY:"And the king stood in his place and made a covenant before the Lord\, to walk after the Lord and to keep his commandments and his testimonies and his statutes\, with all his heart and all his soul\, to perform the words of the covenant that were written in this book." - 2 Chronicles 34:31
DESCRIPTION:
URL:https://seekingscripture.com/vod/and-the-king-stood-in-his-place-and-made-a-covenant-before-the-lord-to-walk-after-the-lord-and-to-keep-his-commandments-and-his-testimonies-and-his-statutes-with-all-his-heart-and-all-his-soul-to-2/
END:VEVENT
END:VCALENDAR